BEGIN:VCALENDAR
VERSION:2.0
PRODID:-//Goodwood Kartways - ECPv4.9.2//NONSGML v1.0//EN
CALSCALE:GREGORIAN
METHOD:PUBLISH
X-WR-CALNAME:Goodwood Kartways
X-ORIGINAL-URL:https://goodwoodkartways.com
X-WR-CALDESC:Events for Goodwood Kartways
BEGIN:VEVENT
DTSTART;TZID=UTC+0:20241013T140000
DTEND;TZID=UTC+0:20241013T190000
DTSTAMP:20260421T081433
CREATED:20240918T201017Z
LAST-MODIFIED:20240918T201017Z
UID:16771-1728828000-1728846000@goodwoodkartways.com
SUMMARY:Public Karting
DESCRIPTION:Open for Public Karting 2pm-7pm by Reservation ONLY. Please call 905.640.5278 to book your time! \n
URL:https://goodwoodkartways.com/event/public-karting-294-2-3-4-3-2-2-2-3-2-2-4-2/
CATEGORIES:2. ARRIVE/DRIVE LAPPING
END:VEVENT
END:VCALENDAR