BEGIN:VCALENDAR
VERSION:2.0
PRODID:-//Goodwood Kartways - ECPv4.9.2//NONSGML v1.0//EN
CALSCALE:GREGORIAN
METHOD:PUBLISH
X-WR-CALNAME:Goodwood Kartways
X-ORIGINAL-URL:https://goodwoodkartways.com
X-WR-CALDESC:Events for Goodwood Kartways
BEGIN:VEVENT
DTSTART;TZID=UTC+0:20240830T160000
DTEND;TZID=UTC+0:20240830T190000
DTSTAMP:20260423T001329
CREATED:20240829T165710Z
LAST-MODIFIED:20240829T165710Z
UID:16729-1725033600-1725044400@goodwoodkartways.com
SUMMARY:Public Karting
DESCRIPTION:Open for Public Karting 4pm-7pm by Reservation ONLY. Please call 905.640.5278 to book your time! \n
URL:https://goodwoodkartways.com/event/public-karting-294-2-3-4-3-2-2-2-3-2/
CATEGORIES:2. ARRIVE/DRIVE LAPPING
END:VEVENT
END:VCALENDAR