BEGIN:VCALENDAR
VERSION:2.0
PRODID:-//Goodwood Kartways - ECPv4.9.2//NONSGML v1.0//EN
CALSCALE:GREGORIAN
METHOD:PUBLISH
X-WR-CALNAME:Goodwood Kartways
X-ORIGINAL-URL:https://goodwoodkartways.com
X-WR-CALDESC:Events for Goodwood Kartways
BEGIN:VEVENT
DTSTART;TZID=America/Toronto:20250710T120000
DTEND;TZID=America/Toronto:20250710T133000
DTSTAMP:20260420T035141
CREATED:20250703T150232Z
LAST-MODIFIED:20250707T143829Z
UID:17438-1752148800-1752154200@goodwoodkartways.com
SUMMARY:Private Event
DESCRIPTION:Private Event 12PM-1:30PM \n
URL:https://goodwoodkartways.com/event/track-closed-36-2-2025-09-02-2/
CATEGORIES:6. PRIVATE GROUP EVENT
END:VEVENT
END:VCALENDAR