BEGIN:VCALENDAR
VERSION:2.0
PRODID:-//Goodwood Kartways - ECPv4.9.2//NONSGML v1.0//EN
CALSCALE:GREGORIAN
METHOD:PUBLISH
X-WR-CALNAME:Goodwood Kartways
X-ORIGINAL-URL:https://goodwoodkartways.com
X-WR-CALDESC:Events for Goodwood Kartways
BEGIN:VEVENT
DTSTART;TZID=UTC+0:20240907T100000
DTEND;TZID=UTC+0:20240907T160000
DTSTAMP:20260421T175503
CREATED:20240211T171030Z
LAST-MODIFIED:20240904T204545Z
UID:15991-1725703200-1725724800@goodwoodkartways.com
SUMMARY:TRAK Race 13
DESCRIPTION:Click HERE for TRAK Race 13 Details \n
URL:https://goodwoodkartways.com/event/trak-race-1-8-2-2-2-2-2-2-2-2-2-2/
CATEGORIES:3. KART OWNER RACING
END:VEVENT
END:VCALENDAR