BEGIN:VCALENDAR
VERSION:2.0
PRODID:-//Goodwood Kartways - ECPv4.9.2//NONSGML v1.0//EN
CALSCALE:GREGORIAN
METHOD:PUBLISH
X-WR-CALNAME:Goodwood Kartways
X-ORIGINAL-URL:https://goodwoodkartways.com
X-WR-CALDESC:Events for Goodwood Kartways
BEGIN:VEVENT
DTSTART;TZID=UTC+0:20240713T100000
DTEND;TZID=UTC+0:20240713T160000
DTSTAMP:20260424T230057
CREATED:20240211T170928Z
LAST-MODIFIED:20240710T141411Z
UID:15988-1720864800-1720886400@goodwoodkartways.com
SUMMARY:TRAK Race 8
DESCRIPTION:Click HERE for TRAK Race 8 Details \n
URL:https://goodwoodkartways.com/event/trak-race-1-8-2-2-2-2-2-2-2/
CATEGORIES:3. KART OWNER RACING
END:VEVENT
END:VCALENDAR