BEGIN:VCALENDAR
VERSION:2.0
PRODID:-//Goodwood Kartways - ECPv4.9.2//NONSGML v1.0//EN
CALSCALE:GREGORIAN
METHOD:PUBLISH
X-WR-CALNAME:Goodwood Kartways
X-ORIGINAL-URL:https://goodwoodkartways.com
X-WR-CALDESC:Events for Goodwood Kartways
BEGIN:VEVENT
DTSTART;TZID=UTC+0:20240420T100000
DTEND;TZID=UTC+0:20240420T160000
DTSTAMP:20260425T142259
CREATED:20240211T170704Z
LAST-MODIFIED:20240416T003041Z
UID:15983-1713607200-1713628800@goodwoodkartways.com
SUMMARY:TRAK Race 2
DESCRIPTION:TRAK RACE TWO – SATURDAY APRIL 20th 2024 – LONG TRACK CONFIGURATION – QUALIFYING FORMAT \n  \nPRACTICE AVAILABILITY \n\nWednesday April 17th. 10am – 7pm.\nThursday April 18th. 10am – 7pm.\nFriday April 19th. 10am – 7pm.\n\n  \nTRAK RACE 2 – APRIL 20th 2024 – SATURDAY SCHEDULE \n\n7:00am – Gates Open\n7:30am – Registration Open’s\n9:00am – Registration Close’s\n9:15am – Mandatory Driver’s Meeting\n10:00am – Practice Session 1 (8 Minute Session)\nT.B.D – Qualifying (8 Minute Session)\nLunch Break\nT.B.D – Pre-Final (10 Lap Race)\nT.B.D – Final (12 Lap Race)\n4:00pm – Podium Presentation\n\n  \nTRAK RACE 2 – RACE ORDER \n\nBriggs Masters\nVLR Junior\nBriggs Cadet* (May be split into two groups based on entry count)\nBriggs Senior\nBriggs Junior Lite\nVLR Masters\nVLR Senior\nBriggs Junior\nMini Rok\n\n  \nTRAK RACE 2 – NOTES: \n\nRegistration will be open on-site on Thursday and Friday for drivers practicing. ParkIng arrangements will also be completed on these days to help ease the burden on Saturday morning.\nRegistration will re-open on-site Saturday morning. \nPayment should be made by cash or cheque as outlined in the TRAK supplemental regulations.\nThat’s Sapore Snack Bar will be open. Special: Italian Sausage on a bun. Email thatssapore@gmail.com\nFor more information on our Club Racing program please visit goodwoodkartways.com.\n\n
URL:https://goodwoodkartways.com/event/trak-race-1-8-2-2/
CATEGORIES:3. KART OWNER RACING
END:VEVENT
END:VCALENDAR