BEGIN:VCALENDAR
VERSION:2.0
PRODID:-//Goodwood Kartways - ECPv4.9.2//NONSGML v1.0//EN
CALSCALE:GREGORIAN
METHOD:PUBLISH
X-WR-CALNAME:Goodwood Kartways
X-ORIGINAL-URL:https://goodwoodkartways.com
X-WR-CALDESC:Events for Goodwood Kartways
BEGIN:VEVENT
DTSTART;TZID=UTC+0:20250419T100000
DTEND;TZID=UTC+0:20250419T160000
DTSTAMP:20260420T225613
CREATED:20250207T170224Z
LAST-MODIFIED:20250416T134202Z
UID:16961-1745056800-1745078400@goodwoodkartways.com
SUMMARY:TRAK Race 2
DESCRIPTION:Click HERE for Event Details \n
URL:https://goodwoodkartways.com/event/trak-race-1-8-2-3-2/
CATEGORIES:3. KART OWNER RACING
END:VEVENT
END:VCALENDAR