BEGIN:VCALENDAR
VERSION:2.0
PRODID:-//Goodwood Kartways - ECPv4.9.2//NONSGML v1.0//EN
CALSCALE:GREGORIAN
METHOD:PUBLISH
X-WR-CALNAME:Goodwood Kartways
X-ORIGINAL-URL:https://goodwoodkartways.com
X-WR-CALDESC:Events for Goodwood Kartways
BEGIN:VEVENT
DTSTART;TZID=UTC+0:20241102T100000
DTEND;TZID=UTC+0:20241102T160000
DTSTAMP:20260421T095002
CREATED:20240211T172718Z
LAST-MODIFIED:20241028T180427Z
UID:16007-1730541600-1730563200@goodwoodkartways.com
SUMMARY:Goodwood Kartways 200 Multi-Class Enduro
DESCRIPTION:Click HERE for Details. \n
URL:https://goodwoodkartways.com/event/trak-year-end-enduro-3-2/
CATEGORIES:3. KART OWNER RACING
END:VEVENT
END:VCALENDAR