BEGIN:VCALENDAR
VERSION:2.0
PRODID:-//Goodwood Kartways - ECPv4.9.2//NONSGML v1.0//EN
CALSCALE:GREGORIAN
METHOD:PUBLISH
X-WR-CALNAME:Goodwood Kartways
X-ORIGINAL-URL:https://goodwoodkartways.com
X-WR-CALDESC:Events for Goodwood Kartways
BEGIN:VEVENT
DTSTART;TZID=UTC+0:20241005T100000
DTEND;TZID=UTC+0:20241005T160000
DTSTAMP:20260426T010431
CREATED:20240211T171109Z
LAST-MODIFIED:20241002T143555Z
UID:15993-1728122400-1728144000@goodwoodkartways.com
SUMMARY:TRAK Race 15
DESCRIPTION:Click HERE for TRAK Race 15 Details \n
URL:https://goodwoodkartways.com/event/trak-race-1-8-2-2-2-2-2-2-2-2-2-2-2-2/
CATEGORIES:3. KART OWNER RACING
END:VEVENT
BEGIN:VEVENT
DTSTART;TZID=UTC+0:20241005T153000
DTEND;TZID=UTC+0:20241005T170000
DTSTAMP:20260426T010431
CREATED:20240918T200908Z
LAST-MODIFIED:20240918T200933Z
UID:16770-1728142200-1728147600@goodwoodkartways.com
SUMMARY:Public Karting
DESCRIPTION:Open for Public Karting 3:30pm-5pm by Reservation ONLY. Please call 905.640.5278 to book your time! \n
URL:https://goodwoodkartways.com/event/public-karting-294-2-3-4-3-2-2-2-3-2-2-4/
CATEGORIES:2. ARRIVE/DRIVE LAPPING
END:VEVENT
BEGIN:VEVENT
DTSTART;TZID=UTC+0:20241005T173000
DTEND;TZID=UTC+0:20241005T203000
DTSTAMP:20260426T010431
CREATED:20240211T175532Z
LAST-MODIFIED:20240211T175532Z
UID:16049-1728149400-1728160200@goodwoodkartways.com
SUMMARY:CRKC - Race 10
DESCRIPTION:Schedule 3 – Saturday \nRegistration: 5:00pm\nPractice: 5:30pm-6:45pm\nQualifying and Racing: 7:00pm-8:30pm \n  \n
URL:https://goodwoodkartways.com/event/crkc-race-1-53-2-2-2-2-2-2-2-2-2-2/
LOCATION:Goodwood Kartways\, 5200 Concession 2 Road\, Whitchurch-Stouffville\, Ontario\, L4A 7X4\, Canada
CATEGORIES:1. ARRIVE/DRIVE RACING
END:VEVENT
END:VCALENDAR