BEGIN:VCALENDAR
VERSION:2.0
PRODID:-//Goodwood Kartways - ECPv4.9.2//NONSGML v1.0//EN
CALSCALE:GREGORIAN
METHOD:PUBLISH
X-WR-CALNAME:Goodwood Kartways
X-ORIGINAL-URL:https://goodwoodkartways.com
X-WR-CALDESC:Events for Goodwood Kartways
BEGIN:VEVENT
DTSTART;TZID=America/Toronto:20241011T093000
DTEND;TZID=America/Toronto:20241011T110000
DTSTAMP:20260425T234312
CREATED:20241009T144324Z
LAST-MODIFIED:20241009T144324Z
UID:16822-1728639000-1728644400@goodwoodkartways.com
SUMMARY:Private Event
DESCRIPTION:Private Event 9:30AM-11AM \n
URL:https://goodwoodkartways.com/event/private-event-969-2/
CATEGORIES:6. PRIVATE GROUP EVENT
END:VEVENT
BEGIN:VEVENT
DTSTART;TZID=UTC+0:20241011T100000
DTEND;TZID=UTC+0:20241011T180000
DTSTAMP:20260425T234312
CREATED:20240930T151946Z
LAST-MODIFIED:20240930T151946Z
UID:16795-1728640800-1728669600@goodwoodkartways.com
SUMMARY:Public Karting
DESCRIPTION:Open for Public Karting 10am-6pm by Reservation ONLY. Please call 905.640.5278 to book your time! \n
URL:https://goodwoodkartways.com/event/public-karting-294-2-3-4-3-2-2-2-3-2-2-4-2-3/
CATEGORIES:2. ARRIVE/DRIVE LAPPING
END:VEVENT
END:VCALENDAR