BEGIN:VCALENDAR
VERSION:2.0
PRODID:-//Goodwood Kartways - ECPv4.9.2//NONSGML v1.0//EN
CALSCALE:GREGORIAN
METHOD:PUBLISH
X-WR-CALNAME:Goodwood Kartways
X-ORIGINAL-URL:https://goodwoodkartways.com
X-WR-CALDESC:Events for Goodwood Kartways
BEGIN:VEVENT
DTSTART;TZID=America/Toronto:20241018T100000
DTEND;TZID=America/Toronto:20241018T113000
DTSTAMP:20260425T205930
CREATED:20241006T180238Z
LAST-MODIFIED:20241006T180238Z
UID:16813-1729245600-1729251000@goodwoodkartways.com
SUMMARY:Private Event
DESCRIPTION:Private Event 10AM-11:30AM \n
URL:https://goodwoodkartways.com/event/private-event-968/
CATEGORIES:6. PRIVATE GROUP EVENT
END:VEVENT
BEGIN:VEVENT
DTSTART;TZID=UTC+0:20241018T113000
DTEND;TZID=UTC+0:20241018T180000
DTSTAMP:20260425T205930
CREATED:20240930T152615Z
LAST-MODIFIED:20241009T144443Z
UID:16799-1729251000-1729274400@goodwoodkartways.com
SUMMARY:Private Lapping
DESCRIPTION:Private Lapping for all private kart owners. \n  \n
URL:https://goodwoodkartways.com/event/private-lapping-63-2-2-3-2-2-2-4/
CATEGORIES:3. KART OWNER RACING
END:VEVENT
BEGIN:VEVENT
DTSTART;TZID=America/Toronto:20241018T180000
DTEND;TZID=America/Toronto:20241018T180000
DTSTAMP:20260425T205930
CREATED:20241017T184506Z
LAST-MODIFIED:20241017T184507Z
UID:16885-1729274400-1729274400@goodwoodkartways.com
SUMMARY:Group Event
DESCRIPTION:Group Event 6PM \n
URL:https://goodwoodkartways.com/event/group-event-689/
END:VEVENT
END:VCALENDAR