BEGIN:VCALENDAR
VERSION:2.0
PRODID:-//Goodwood Kartways - ECPv4.9.2//NONSGML v1.0//EN
CALSCALE:GREGORIAN
METHOD:PUBLISH
X-WR-CALNAME:Goodwood Kartways
X-ORIGINAL-URL:https://goodwoodkartways.com
X-WR-CALDESC:Events for Goodwood Kartways
BEGIN:VEVENT
DTSTART;TZID=UTC+0:20241019T090000
DTEND;TZID=UTC+0:20241019T140000
DTSTAMP:20260426T021057
CREATED:20240211T171551Z
LAST-MODIFIED:20240429T153700Z
UID:16003-1729328400-1729346400@goodwoodkartways.com
SUMMARY:Kid Kart Race 8
DESCRIPTION:Kid Kart Race 8 \nDedicated instructor led lapping session for Goodwood Kartways Kid Kart Members. Age ranging from 3-7 years. \nContact daniel@goodwoodkartways.com to enroll your son/daughter today. \nClick HERE for Kid Kart Race 8 Details \n  \n  \n
URL:https://goodwoodkartways.com/event/kid-kart-race-1-2-2-2-2-2-2-2-2/
CATEGORIES:7. SPECIAL EVENTS
END:VEVENT
BEGIN:VEVENT
DTSTART;TZID=UTC+0:20241019T100000
DTEND;TZID=UTC+0:20241019T160000
DTSTAMP:20260426T021057
CREATED:20240211T171126Z
LAST-MODIFIED:20241015T165656Z
UID:15994-1729332000-1729353600@goodwoodkartways.com
SUMMARY:TRAK Race 16
DESCRIPTION:Click HERE for TRAK Race 16 Details \n
URL:https://goodwoodkartways.com/event/trak-race-1-8-2-2-2-2-2-2-2-2-2-2-2-2-2/
CATEGORIES:3. KART OWNER RACING
END:VEVENT
BEGIN:VEVENT
DTSTART;TZID=UTC+0:20241019T160000
DTEND;TZID=UTC+0:20241019T173000
DTSTAMP:20260426T021057
CREATED:20240918T201102Z
LAST-MODIFIED:20240920T194331Z
UID:16772-1729353600-1729359000@goodwoodkartways.com
SUMMARY:Private Event
DESCRIPTION:Private Event 4PM-5:30PM \n
URL:https://goodwoodkartways.com/event/public-karting-294-2-3-4-3-2-2-2-3-2-2-4-2-2/
CATEGORIES:6. PRIVATE GROUP EVENT
END:VEVENT
BEGIN:VEVENT
DTSTART;TZID=America/Toronto:20241019T170000
DTEND;TZID=America/Toronto:20241019T183000
DTSTAMP:20260426T021057
CREATED:20240926T143047Z
LAST-MODIFIED:20240926T143047Z
UID:16783-1729357200-1729362600@goodwoodkartways.com
SUMMARY:Private Event
DESCRIPTION:Private Event 5PM-6:30PM \n
URL:https://goodwoodkartways.com/event/group-event-691-2-2-2-2/
CATEGORIES:6. PRIVATE GROUP EVENT
END:VEVENT
END:VCALENDAR