BEGIN:VCALENDAR
VERSION:2.0
PRODID:-//Goodwood Kartways - ECPv4.9.2//NONSGML v1.0//EN
CALSCALE:GREGORIAN
METHOD:PUBLISH
X-WR-CALNAME:Goodwood Kartways
X-ORIGINAL-URL:https://goodwoodkartways.com
X-WR-CALDESC:Events for Goodwood Kartways
BEGIN:VEVENT
DTSTART;TZID=UTC+0:20241027T080000
DTEND;TZID=UTC+0:20241027T100000
DTSTAMP:20260426T010650
CREATED:20240401T180628Z
LAST-MODIFIED:20240429T153717Z
UID:16180-1730016000-1730023200@goodwoodkartways.com
SUMMARY:Kid Kart - Training
DESCRIPTION:Dedicated instructor led lapping session for Goodwood Kartways Kid Kart Members. Age ranging from 3-7 years. \nContact daniel@goodwoodkartways.com to enroll your son/daughter today. \n  \n  \n  \n
URL:https://goodwoodkartways.com/event/kid-kart-race-1-2-2-2-2-2-2-2-2-2-2-2-2-2-2-2-2-2-2-2-2-2-2-2/
CATEGORIES:7. SPECIAL EVENTS
END:VEVENT
BEGIN:VEVENT
DTSTART;TZID=America/Toronto:20241027T100000
DTEND;TZID=America/Toronto:20241027T140000
DTSTAMP:20260426T010650
CREATED:20240610T194026Z
LAST-MODIFIED:20240610T194026Z
UID:16493-1730023200-1730037600@goodwoodkartways.com
SUMMARY:Private Event
DESCRIPTION:Private Event 10AM-2PM \n
URL:https://goodwoodkartways.com/event/private-event-924/
CATEGORIES:6. PRIVATE GROUP EVENT
END:VEVENT
BEGIN:VEVENT
DTSTART;TZID=America/Toronto:20241027T140000
DTEND;TZID=America/Toronto:20241027T153000
DTSTAMP:20260426T010650
CREATED:20240930T152111Z
LAST-MODIFIED:20240930T152111Z
UID:16797-1730037600-1730043000@goodwoodkartways.com
SUMMARY:Private Event
DESCRIPTION:Private Event 2PM-3:30PM \n
URL:https://goodwoodkartways.com/event/private-event-963/
CATEGORIES:6. PRIVATE GROUP EVENT
END:VEVENT
BEGIN:VEVENT
DTSTART;TZID=America/Toronto:20241027T153000
DTEND;TZID=America/Toronto:20241027T170000
DTSTAMP:20260426T010650
CREATED:20241002T144353Z
LAST-MODIFIED:20241002T144353Z
UID:16803-1730043000-1730048400@goodwoodkartways.com
SUMMARY:Private Event
DESCRIPTION:Private Event 3:30PM-5PM \n
URL:https://goodwoodkartways.com/event/private-event-964/
CATEGORIES:6. PRIVATE GROUP EVENT
END:VEVENT
BEGIN:VEVENT
DTSTART;TZID=America/Toronto:20241027T170000
DTEND;TZID=America/Toronto:20241027T183000
DTSTAMP:20260426T010650
CREATED:20241003T183606Z
LAST-MODIFIED:20241003T183606Z
UID:16812-1730048400-1730053800@goodwoodkartways.com
SUMMARY:Private Event
DESCRIPTION:Private Event 5PM-6:30PM \n
URL:https://goodwoodkartways.com/event/private-event-967/
CATEGORIES:6. PRIVATE GROUP EVENT
END:VEVENT
END:VCALENDAR