BEGIN:VCALENDAR
VERSION:2.0
PRODID:-//Goodwood Kartways - ECPv4.9.2//NONSGML v1.0//EN
CALSCALE:GREGORIAN
METHOD:PUBLISH
X-WR-CALNAME:Goodwood Kartways
X-ORIGINAL-URL:https://goodwoodkartways.com
X-WR-CALDESC:Events for Goodwood Kartways
BEGIN:VEVENT
DTSTART;VALUE=DATE:20241029
DTEND;VALUE=DATE:20241030
DTSTAMP:20260425T205909
CREATED:20240418T172845Z
LAST-MODIFIED:20240418T172845Z
UID:16246-1730160000-1730246399@goodwoodkartways.com
SUMMARY:Track Closed
DESCRIPTION:Track Closed \n
URL:https://goodwoodkartways.com/event/track-closed-36/2024-10-29/
END:VEVENT
END:VCALENDAR