BEGIN:VCALENDAR
VERSION:2.0
PRODID:-//Goodwood Kartways - ECPv4.9.2//NONSGML v1.0//EN
CALSCALE:GREGORIAN
METHOD:PUBLISH
X-WR-CALNAME:Goodwood Kartways
X-ORIGINAL-URL:https://goodwoodkartways.com
X-WR-CALDESC:Events for Goodwood Kartways
BEGIN:VEVENT
DTSTART;TZID=UTC+0:20241101T100000
DTEND;TZID=UTC+0:20241101T180000
DTSTAMP:20260425T234352
CREATED:20241024T143800Z
LAST-MODIFIED:20241024T143800Z
UID:16914-1730455200-1730484000@goodwoodkartways.com
SUMMARY:Private Lapping
DESCRIPTION:Private Lapping for all private kart owners. \n  \n
URL:https://goodwoodkartways.com/event/private-lapping-63-2-2-3-2-2-2-4-2/
CATEGORIES:3. KART OWNER RACING
END:VEVENT
BEGIN:VEVENT
DTSTART;TZID=America/Toronto:20241101T173000
DTEND;TZID=America/Toronto:20241101T190000
DTSTAMP:20260425T234352
CREATED:20241101T013808Z
LAST-MODIFIED:20241101T013808Z
UID:16940-1730482200-1730487600@goodwoodkartways.com
SUMMARY:Private Event
DESCRIPTION:Private Event 5:30PM-7PM \n
URL:https://goodwoodkartways.com/event/private-event-978/
CATEGORIES:6. PRIVATE GROUP EVENT
END:VEVENT
END:VCALENDAR