BEGIN:VCALENDAR
VERSION:2.0
PRODID:-//Goodwood Kartways - ECPv4.9.2//NONSGML v1.0//EN
CALSCALE:GREGORIAN
METHOD:PUBLISH
X-WR-CALNAME:Goodwood Kartways
X-ORIGINAL-URL:https://goodwoodkartways.com
X-WR-CALDESC:Events for Goodwood Kartways
BEGIN:VEVENT
DTSTART;TZID=America/Toronto:20241103T100000
DTEND;TZID=America/Toronto:20241103T110000
DTSTAMP:20260426T021609
CREATED:20241028T173023Z
LAST-MODIFIED:20241103T132328Z
UID:16927-1730628000-1730631600@goodwoodkartways.com
SUMMARY:Private-Event
DESCRIPTION:Private Event \n10am-11am \n
URL:https://goodwoodkartways.com/event/private-event-977/
CATEGORIES:6. PRIVATE GROUP EVENT
END:VEVENT
BEGIN:VEVENT
DTSTART;TZID=UTC+0:20241103T110000
DTEND;TZID=UTC+0:20241103T133000
DTSTAMP:20260426T021609
CREATED:20241028T180345Z
LAST-MODIFIED:20241103T132312Z
UID:16938-1730631600-1730640600@goodwoodkartways.com
SUMMARY:Public Karting
DESCRIPTION:Open for Public Karting 11am-1:30pm by Reservation ONLY. Please call 905.640.5278 to book your time! \n
URL:https://goodwoodkartways.com/event/public-karting-294-2-3-4-3-2-2-2-3-2-2-4-2-3-2-3-2/
CATEGORIES:2. ARRIVE/DRIVE LAPPING
END:VEVENT
BEGIN:VEVENT
DTSTART;TZID=America/Toronto:20241103T133000
DTEND;TZID=America/Toronto:20241103T150000
DTSTAMP:20260426T021609
CREATED:20241024T144712Z
LAST-MODIFIED:20241024T144712Z
UID:16916-1730640600-1730646000@goodwoodkartways.com
SUMMARY:Private Event
DESCRIPTION:Private Event 1:30PM-3PM \n
URL:https://goodwoodkartways.com/event/private-event-974/
CATEGORIES:6. PRIVATE GROUP EVENT
END:VEVENT
END:VCALENDAR