BEGIN:VCALENDAR
VERSION:2.0
PRODID:-//Goodwood Kartways - ECPv4.9.2//NONSGML v1.0//EN
CALSCALE:GREGORIAN
METHOD:PUBLISH
X-WR-CALNAME:Goodwood Kartways
X-ORIGINAL-URL:https://goodwoodkartways.com
X-WR-CALDESC:Events for Goodwood Kartways
BEGIN:VEVENT
DTSTART;TZID=UTC+0:20250413T090000
DTEND;TZID=UTC+0:20250413T120000
DTSTAMP:20260421T050318
CREATED:20250401T171130Z
LAST-MODIFIED:20250401T171200Z
UID:17173-1744534800-1744545600@goodwoodkartways.com
SUMMARY:CRKC - Open House 7
DESCRIPTION:Information session designed to complete the registration process for ALL current members. Members must attend one (1) of the eight (8) sessions\, simply stopping by anytime between the hours listed below. (9am – 12pm) \n
URL:https://goodwoodkartways.com/event/crkc-open-house-1-10-2-2-2-2-2-2-2-3-2/
LOCATION:Goodwood Kartways\, 5200 Concession 2 Road\, Whitchurch-Stouffville\, Ontario\, L4A 7X4\, Canada
CATEGORIES:1. ARRIVE/DRIVE RACING
END:VEVENT
BEGIN:VEVENT
DTSTART;TZID=UTC+0:20250413T110000
DTEND;TZID=UTC+0:20250413T160000
DTSTAMP:20260421T050318
CREATED:20250413T004427Z
LAST-MODIFIED:20250413T004427Z
UID:17206-1744542000-1744560000@goodwoodkartways.com
SUMMARY:Arrive & Drive Lapping
DESCRIPTION:Arrive & Drive Lapping: \nFor pre-registered drivers only. Please call 905.640.5278 to reserve your spot! \n
URL:https://goodwoodkartways.com/event/arrive-drive-lapping-28-2-2-2-2-2-2-2/
LOCATION:Ontario
CATEGORIES:1. ARRIVE/DRIVE RACING
END:VEVENT
BEGIN:VEVENT
DTSTART;TZID=America/Toronto:20250413T163000
DTEND;TZID=America/Toronto:20250413T173000
DTSTAMP:20260421T050318
CREATED:20250307T171407Z
LAST-MODIFIED:20250307T171407Z
UID:17116-1744561800-1744565400@goodwoodkartways.com
SUMMARY:Private Event
DESCRIPTION:Private Event 4:30PM-5:45PM \n
URL:https://goodwoodkartways.com/event/private-event-982/
LOCATION:Ontario
CATEGORIES:6. PRIVATE GROUP EVENT
END:VEVENT
BEGIN:VEVENT
DTSTART;TZID=America/Toronto:20250413T173000
DTEND;TZID=America/Toronto:20250413T190000
DTSTAMP:20260421T050318
CREATED:20250307T171433Z
LAST-MODIFIED:20250307T171433Z
UID:17117-1744565400-1744570800@goodwoodkartways.com
SUMMARY:Private Event
DESCRIPTION:Private Event 5:45PM-7PM \n
URL:https://goodwoodkartways.com/event/private-event-982-2/
LOCATION:Ontario
CATEGORIES:6. PRIVATE GROUP EVENT
END:VEVENT
END:VCALENDAR