BEGIN:VCALENDAR
VERSION:2.0
PRODID:-//Goodwood Kartways - ECPv4.9.2//NONSGML v1.0//EN
CALSCALE:GREGORIAN
METHOD:PUBLISH
X-WR-CALNAME:Goodwood Kartways
X-ORIGINAL-URL:https://goodwoodkartways.com
X-WR-CALDESC:Events for Goodwood Kartways
BEGIN:VEVENT
DTSTART;TZID=UTC+0:20250427T080000
DTEND;TZID=UTC+0:20250427T100000
DTSTAMP:20260421T031355
CREATED:20250307T173959Z
LAST-MODIFIED:20250307T173959Z
UID:17144-1745740800-1745748000@goodwoodkartways.com
SUMMARY:Kid Kart - Training
DESCRIPTION:Dedicated instructor led lapping session for Goodwood Kartways Kid Kart Members. Age ranging from 3-7 years. \nContact daniel@goodwoodkartways.com to enroll your son/daughter today. \n  \n  \n  \n
URL:https://goodwoodkartways.com/event/kid-kart-race-1-2-2-2-2-2-2-2-2-2-3-2/
CATEGORIES:7. SPECIAL EVENTS
END:VEVENT
BEGIN:VEVENT
DTSTART;TZID=UTC+0:20250427T110000
DTEND;TZID=UTC+0:20250427T140000
DTSTAMP:20260421T031355
CREATED:20250425T201821Z
LAST-MODIFIED:20250425T201821Z
UID:17236-1745751600-1745762400@goodwoodkartways.com
SUMMARY:Arrive & Drive Lapping
DESCRIPTION:Arrive & Drive Lapping: \nFor pre-registered drivers only. Please call 905.640.5278 to reserve your spot! \n
URL:https://goodwoodkartways.com/event/arrive-drive-lapping-28-2-2-2-2-2-2-2-2-2/
CATEGORIES:1. ARRIVE/DRIVE RACING
END:VEVENT
BEGIN:VEVENT
DTSTART;TZID=America/Toronto:20250427T143000
DTEND;TZID=America/Toronto:20250427T160000
DTSTAMP:20260421T031355
CREATED:20250411T175039Z
LAST-MODIFIED:20250411T175039Z
UID:17203-1745764200-1745769600@goodwoodkartways.com
SUMMARY:Private Event
DESCRIPTION:Private Event 2:30PM-4PM \n
URL:https://goodwoodkartways.com/event/private-event-988/
CATEGORIES:6. PRIVATE GROUP EVENT
END:VEVENT
BEGIN:VEVENT
DTSTART;TZID=America/Toronto:20250427T160000
DTEND;TZID=America/Toronto:20250427T190000
DTSTAMP:20260421T031355
CREATED:20250307T171459Z
LAST-MODIFIED:20250307T171459Z
UID:17118-1745769600-1745780400@goodwoodkartways.com
SUMMARY:Private Event
DESCRIPTION:Private Event 4PM-7PM \n
URL:https://goodwoodkartways.com/event/private-event-982-2-2/
CATEGORIES:6. PRIVATE GROUP EVENT
END:VEVENT
END:VCALENDAR