BEGIN:VCALENDAR
VERSION:2.0
PRODID:-//Goodwood Kartways - ECPv4.9.2//NONSGML v1.0//EN
CALSCALE:GREGORIAN
METHOD:PUBLISH
X-WR-CALNAME:Goodwood Kartways
X-ORIGINAL-URL:https://goodwoodkartways.com
X-WR-CALDESC:Events for Goodwood Kartways
BEGIN:VEVENT
DTSTART;TZID=America/Toronto:20250515T100000
DTEND;TZID=America/Toronto:20250515T180000
DTSTAMP:20260420T192155
CREATED:20250503T194527Z
LAST-MODIFIED:20250513T211429Z
UID:17285-1747303200-1747332000@goodwoodkartways.com
SUMMARY:Private Lapping
DESCRIPTION:Private Lapping 10am-6pm \n
URL:https://goodwoodkartways.com/event/private-lapping-67-2-2-2/
CATEGORIES:3. KART OWNER RACING
END:VEVENT
END:VCALENDAR