BEGIN:VCALENDAR
VERSION:2.0
PRODID:-//Goodwood Kartways - ECPv4.9.2//NONSGML v1.0//EN
CALSCALE:GREGORIAN
METHOD:PUBLISH
X-WR-CALNAME:Goodwood Kartways
X-ORIGINAL-URL:https://goodwoodkartways.com
X-WR-CALDESC:Events for Goodwood Kartways
BEGIN:VEVENT
DTSTART;TZID=America/Toronto:20250523T100000
DTEND;TZID=America/Toronto:20250523T160000
DTSTAMP:20260421T002246
CREATED:20250519T161848Z
LAST-MODIFIED:20250519T161848Z
UID:17346-1747994400-1748016000@goodwoodkartways.com
SUMMARY:Private Lapping
DESCRIPTION:Private Lapping 10am-4pm \n
URL:https://goodwoodkartways.com/event/private-lapping-67-2-2-2-2/
CATEGORIES:3. KART OWNER RACING
END:VEVENT
BEGIN:VEVENT
DTSTART;TZID=America/Toronto:20250523T173000
DTEND;TZID=America/Toronto:20250523T190000
DTSTAMP:20260421T002246
CREATED:20250307T172617Z
LAST-MODIFIED:20250307T172910Z
UID:17140-1748021400-1748026800@goodwoodkartways.com
SUMMARY:Private Event
DESCRIPTION:Private Event 5:30PM-7PM \n
URL:https://goodwoodkartways.com/event/private-event-983/
CATEGORIES:6. PRIVATE GROUP EVENT
END:VEVENT
END:VCALENDAR