BEGIN:VCALENDAR
VERSION:2.0
PRODID:-//Goodwood Kartways - ECPv4.9.2//NONSGML v1.0//EN
CALSCALE:GREGORIAN
METHOD:PUBLISH
X-WR-CALNAME:Goodwood Kartways
X-ORIGINAL-URL:https://goodwoodkartways.com
X-WR-CALDESC:Events for Goodwood Kartways
BEGIN:VEVENT
DTSTART;TZID=America/Toronto:20250530T100000
DTEND;TZID=America/Toronto:20250530T163000
DTSTAMP:20260420T224110
CREATED:20250526T152302Z
LAST-MODIFIED:20250528T164753Z
UID:17363-1748599200-1748622600@goodwoodkartways.com
SUMMARY:Private Lapping
DESCRIPTION:Private Lapping 10am-4:30pm \n
URL:https://goodwoodkartways.com/event/private-lapping-67-2-2-2-2-2/
CATEGORIES:3. KART OWNER RACING
END:VEVENT
BEGIN:VEVENT
DTSTART;TZID=UTC+0:20250530T173000
DTEND;TZID=UTC+0:20250530T203000
DTSTAMP:20260420T224110
CREATED:20250218T180526Z
LAST-MODIFIED:20250218T180526Z
UID:17050-1748626200-1748637000@goodwoodkartways.com
SUMMARY:CRKC - Race 1
DESCRIPTION:Schedule 5 – Friday \nRegistration: 5:00pm\nPractice: 5:30pm-6:45pm\nQualifying and Racing: 7:00pm-8:30pm \n  \n
URL:https://goodwoodkartways.com/event/crkc-race-1-55-2-3/
LOCATION:Goodwood Kartways\, 5200 Concession 2 Road\, Whitchurch-Stouffville\, Ontario\, L4A 7X4\, Canada
CATEGORIES:1. ARRIVE/DRIVE RACING
END:VEVENT
END:VCALENDAR