BEGIN:VCALENDAR
VERSION:2.0
PRODID:-//Goodwood Kartways - ECPv4.9.2//NONSGML v1.0//EN
CALSCALE:GREGORIAN
METHOD:PUBLISH
X-WR-CALNAME:Goodwood Kartways
X-ORIGINAL-URL:https://goodwoodkartways.com
X-WR-CALDESC:Events for Goodwood Kartways
BEGIN:VEVENT
DTSTART;TZID=America/Toronto:20250606T100000
DTEND;TZID=America/Toronto:20250606T130000
DTSTAMP:20260421T020021
CREATED:20250529T143330Z
LAST-MODIFIED:20250529T143330Z
UID:17373-1749204000-1749214800@goodwoodkartways.com
SUMMARY:Private Lapping
DESCRIPTION:Private Lapping 10am-1pm \n
URL:https://goodwoodkartways.com/event/private-lapping-67-2-2-2-2-2-2/
CATEGORIES:3. KART OWNER RACING
END:VEVENT
BEGIN:VEVENT
DTSTART;TZID=America/Toronto:20250606T133000
DTEND;TZID=America/Toronto:20250606T153000
DTSTAMP:20260421T020021
CREATED:20250401T173113Z
LAST-MODIFIED:20250602T182033Z
UID:17179-1749216600-1749223800@goodwoodkartways.com
SUMMARY:Private Event
DESCRIPTION:Private Event 1:30PM-3:30PM \n
URL:https://goodwoodkartways.com/event/private-event-985-2/
CATEGORIES:6. PRIVATE GROUP EVENT
END:VEVENT
BEGIN:VEVENT
DTSTART;TZID=America/Toronto:20250606T153000
DTEND;TZID=America/Toronto:20250606T190000
DTSTAMP:20260421T020021
CREATED:20250529T143355Z
LAST-MODIFIED:20250602T182046Z
UID:17374-1749223800-1749236400@goodwoodkartways.com
SUMMARY:Private Lapping
DESCRIPTION:Private Lapping 3:30pm-7pm \n
URL:https://goodwoodkartways.com/event/private-lapping-67-2-2-2-2-2-2-2/
CATEGORIES:3. KART OWNER RACING
END:VEVENT
END:VCALENDAR