BEGIN:VCALENDAR
VERSION:2.0
PRODID:-//Goodwood Kartways - ECPv4.9.2//NONSGML v1.0//EN
CALSCALE:GREGORIAN
METHOD:PUBLISH
X-WR-CALNAME:Goodwood Kartways
X-ORIGINAL-URL:https://goodwoodkartways.com
X-WR-CALDESC:Events for Goodwood Kartways
BEGIN:VEVENT
DTSTART;TZID=America/Toronto:20250619T100000
DTEND;TZID=America/Toronto:20250619T113000
DTSTAMP:20260420T192012
CREATED:20250424T145259Z
LAST-MODIFIED:20250424T145259Z
UID:17232-1750327200-1750332600@goodwoodkartways.com
SUMMARY:Private Event
DESCRIPTION:Private Event 10AM-11:30AM \n
URL:https://goodwoodkartways.com/event/private-event-991-2/
CATEGORIES:6. PRIVATE GROUP EVENT
END:VEVENT
BEGIN:VEVENT
DTSTART;TZID=America/Toronto:20250619T113000
DTEND;TZID=America/Toronto:20250619T130000
DTSTAMP:20260420T192012
CREATED:20250529T143211Z
LAST-MODIFIED:20250529T143211Z
UID:17371-1750332600-1750338000@goodwoodkartways.com
SUMMARY:Private Event
DESCRIPTION:Private Event 11:30AM-1PM \n
URL:https://goodwoodkartways.com/event/private-event-999-2-2/
CATEGORIES:6. PRIVATE GROUP EVENT
END:VEVENT
BEGIN:VEVENT
DTSTART;TZID=UTC+0:20250619T173000
DTEND;TZID=UTC+0:20250619T203000
DTSTAMP:20260420T192012
CREATED:20250218T175524Z
LAST-MODIFIED:20250218T175524Z
UID:17022-1750354200-1750365000@goodwoodkartways.com
SUMMARY:CRKC - Race 3
DESCRIPTION:Schedule 2 – Thursday \nRegistration: 5:00pm\nPractice: 5:30pm-6:45pm\nQualifying and Racing: 7:00pm-8:30pm \n  \n
URL:https://goodwoodkartways.com/event/crkc-race-1-52-2-3-2-2/
LOCATION:Goodwood Kartways\, 5200 Concession 2 Road\, Whitchurch-Stouffville\, Ontario\, L4A 7X4\, Canada
CATEGORIES:1. ARRIVE/DRIVE RACING
END:VEVENT
END:VCALENDAR