BEGIN:VCALENDAR
VERSION:2.0
PRODID:-//Goodwood Kartways - ECPv4.9.2//NONSGML v1.0//EN
CALSCALE:GREGORIAN
METHOD:PUBLISH
X-WR-CALNAME:Goodwood Kartways
X-ORIGINAL-URL:https://goodwoodkartways.com
X-WR-CALDESC:Events for Goodwood Kartways
BEGIN:VEVENT
DTSTART;TZID=America/Toronto:20250620T130000
DTEND;TZID=America/Toronto:20250620T143000
DTSTAMP:20260420T154109
CREATED:20250529T143138Z
LAST-MODIFIED:20250529T143138Z
UID:17370-1750424400-1750429800@goodwoodkartways.com
SUMMARY:Private Event
DESCRIPTION:Private Event 1PM-2:30PM \n
URL:https://goodwoodkartways.com/event/private-event-999-2/
CATEGORIES:6. PRIVATE GROUP EVENT
END:VEVENT
BEGIN:VEVENT
DTSTART;TZID=America/Toronto:20250620T150000
DTEND;TZID=America/Toronto:20250620T163000
DTSTAMP:20260420T154109
CREATED:20250612T152201Z
LAST-MODIFIED:20250612T152201Z
UID:17408-1750431600-1750437000@goodwoodkartways.com
SUMMARY:Private Event
DESCRIPTION:Private Event 3PM-4:30PM \n
URL:https://goodwoodkartways.com/event/private-event-1006-2/
CATEGORIES:6. PRIVATE GROUP EVENT
END:VEVENT
BEGIN:VEVENT
DTSTART;TZID=America/Toronto:20250620T180000
DTEND;TZID=America/Toronto:20250620T200000
DTSTAMP:20260420T154109
CREATED:20250606T160832Z
LAST-MODIFIED:20250606T160832Z
UID:17398-1750442400-1750449600@goodwoodkartways.com
SUMMARY:Private Event
DESCRIPTION:Private Event 6PM-8PM \n
URL:https://goodwoodkartways.com/event/private-event-1003/
CATEGORIES:6. PRIVATE GROUP EVENT
END:VEVENT
END:VCALENDAR