BEGIN:VCALENDAR
VERSION:2.0
PRODID:-//Goodwood Kartways - ECPv4.9.2//NONSGML v1.0//EN
CALSCALE:GREGORIAN
METHOD:PUBLISH
X-WR-CALNAME:Goodwood Kartways
X-ORIGINAL-URL:https://goodwoodkartways.com
X-WR-CALDESC:Events for Goodwood Kartways
BEGIN:VEVENT
DTSTART;TZID=UTC+0:20250622T080000
DTEND;TZID=UTC+0:20250622T100000
DTSTAMP:20260421T015010
CREATED:20250307T174104Z
LAST-MODIFIED:20250307T174104Z
UID:17147-1750579200-1750586400@goodwoodkartways.com
SUMMARY:Kid Kart - Training
DESCRIPTION:Dedicated instructor led lapping session for Goodwood Kartways Kid Kart Members. Age ranging from 3-7 years. \nContact daniel@goodwoodkartways.com to enroll your son/daughter today. \n  \n  \n  \n
URL:https://goodwoodkartways.com/event/kid-kart-race-1-2-2-2-2-2-2-2-2-2-3-2-2-2-2/
CATEGORIES:7. SPECIAL EVENTS
END:VEVENT
BEGIN:VEVENT
DTSTART;TZID=UTC+0:20250622T100000
DTEND;TZID=UTC+0:20250622T130000
DTSTAMP:20260421T015010
CREATED:20250618T152656Z
LAST-MODIFIED:20250618T152656Z
UID:17417-1750586400-1750597200@goodwoodkartways.com
SUMMARY:Arrive & Drive Lapping
DESCRIPTION:Arrive & Drive Lapping: \nFor pre-registered drivers only. Please call 905.640.5278 to reserve your spot! \n
URL:https://goodwoodkartways.com/event/arrive-drive-lapping-28-2-2-2-2-2-2-2-2-3-2-2-3-2-2-2/
CATEGORIES:1. ARRIVE/DRIVE RACING
END:VEVENT
BEGIN:VEVENT
DTSTART;TZID=America/Toronto:20250622T130000
DTEND;TZID=America/Toronto:20250622T143000
DTSTAMP:20260421T015010
CREATED:20250618T152555Z
LAST-MODIFIED:20250618T152555Z
UID:17415-1750597200-1750602600@goodwoodkartways.com
SUMMARY:Private Event
DESCRIPTION:Private Event 1PM-2:30PM \n
URL:https://goodwoodkartways.com/event/private-event-1008/
CATEGORIES:6. PRIVATE GROUP EVENT
END:VEVENT
BEGIN:VEVENT
DTSTART;TZID=America/Toronto:20250622T143000
DTEND;TZID=America/Toronto:20250622T153000
DTSTAMP:20260421T015010
CREATED:20250307T171600Z
LAST-MODIFIED:20250401T172812Z
UID:17120-1750602600-1750606200@goodwoodkartways.com
SUMMARY:Private Event
DESCRIPTION:Private Event 2:30PM-3:30PM \n
URL:https://goodwoodkartways.com/event/private-event-982-2-2-2-2/
CATEGORIES:6. PRIVATE GROUP EVENT
END:VEVENT
BEGIN:VEVENT
DTSTART;TZID=America/Toronto:20250622T153000
DTEND;TZID=America/Toronto:20250622T163000
DTSTAMP:20260421T015010
CREATED:20250307T171536Z
LAST-MODIFIED:20250401T172838Z
UID:17119-1750606200-1750609800@goodwoodkartways.com
SUMMARY:Private Event
DESCRIPTION:Private Event 3:30PM-4:30PM \n
URL:https://goodwoodkartways.com/event/private-event-982-2-2-2/
CATEGORIES:6. PRIVATE GROUP EVENT
END:VEVENT
BEGIN:VEVENT
DTSTART;TZID=America/Toronto:20250622T163000
DTEND;TZID=America/Toronto:20250622T173000
DTSTAMP:20260421T015010
CREATED:20250307T171721Z
LAST-MODIFIED:20250307T171729Z
UID:17122-1750609800-1750613400@goodwoodkartways.com
SUMMARY:Private Event
DESCRIPTION:Private Event 4:30PM-5:45PM \n
URL:https://goodwoodkartways.com/event/private-event-982-2-2-2-2-2-2/
CATEGORIES:6. PRIVATE GROUP EVENT
END:VEVENT
BEGIN:VEVENT
DTSTART;TZID=America/Toronto:20250622T173000
DTEND;TZID=America/Toronto:20250622T190000
DTSTAMP:20260421T015010
CREATED:20250307T171748Z
LAST-MODIFIED:20250307T171748Z
UID:17123-1750613400-1750618800@goodwoodkartways.com
SUMMARY:Private Event
DESCRIPTION:Private Event 5:45PM-7PM \n
URL:https://goodwoodkartways.com/event/private-event-982-2-2-2-2-2-2-2/
CATEGORIES:6. PRIVATE GROUP EVENT
END:VEVENT
END:VCALENDAR