BEGIN:VCALENDAR
VERSION:2.0
PRODID:-//Goodwood Kartways - ECPv4.9.2//NONSGML v1.0//EN
CALSCALE:GREGORIAN
METHOD:PUBLISH
X-WR-CALNAME:Goodwood Kartways
X-ORIGINAL-URL:https://goodwoodkartways.com
X-WR-CALDESC:Events for Goodwood Kartways
BEGIN:VEVENT
DTSTART;TZID=UTC+0:20250628T080000
DTEND;TZID=UTC+0:20250628T100000
DTSTAMP:20260420T223950
CREATED:20250307T174127Z
LAST-MODIFIED:20250307T174127Z
UID:17149-1751097600-1751104800@goodwoodkartways.com
SUMMARY:Kid Kart - Training
DESCRIPTION:Dedicated instructor led lapping session for Goodwood Kartways Kid Kart Members. Age ranging from 3-7 years. \nContact daniel@goodwoodkartways.com to enroll your son/daughter today. \n  \n  \n  \n
URL:https://goodwoodkartways.com/event/kid-kart-race-1-2-2-2-2-2-2-2-2-2-3-2-2-2-2-2/
CATEGORIES:7. SPECIAL EVENTS
END:VEVENT
BEGIN:VEVENT
DTSTART;TZID=UTC+0:20250628T100000
DTEND;TZID=UTC+0:20250628T150000
DTSTAMP:20260420T223950
CREATED:20250627T173656Z
LAST-MODIFIED:20250627T173656Z
UID:17429-1751104800-1751122800@goodwoodkartways.com
SUMMARY:Arrive & Drive Lapping
DESCRIPTION:Arrive & Drive Lapping: \nFor pre-registered drivers only. Please call 905.640.5278 to reserve your spot! \n
URL:https://goodwoodkartways.com/event/arrive-drive-lapping-28-2-2-2-2-2-2-2-2-3-2-2-3-2-2-2-2/
CATEGORIES:1. ARRIVE/DRIVE RACING
END:VEVENT
BEGIN:VEVENT
DTSTART;TZID=America/Toronto:20250628T150000
DTEND;TZID=America/Toronto:20250628T163000
DTSTAMP:20260420T223950
CREATED:20250605T142117Z
LAST-MODIFIED:20250605T142117Z
UID:17391-1751122800-1751128200@goodwoodkartways.com
SUMMARY:Private Event
DESCRIPTION:Private Event 3PM-4:30PM \n
URL:https://goodwoodkartways.com/event/private-event-1000-2-2-2/
CATEGORIES:6. PRIVATE GROUP EVENT
END:VEVENT
BEGIN:VEVENT
DTSTART;TZID=America/Toronto:20250628T163000
DTEND;TZID=America/Toronto:20250628T180000
DTSTAMP:20260420T223950
CREATED:20250508T182948Z
LAST-MODIFIED:20250508T182948Z
UID:17331-1751128200-1751133600@goodwoodkartways.com
SUMMARY:Private Event
DESCRIPTION:Private Event 4:30PM-6:00PM \n
URL:https://goodwoodkartways.com/event/private-event-995/
CATEGORIES:6. PRIVATE GROUP EVENT
END:VEVENT
END:VCALENDAR