BEGIN:VCALENDAR
VERSION:2.0
PRODID:-//Goodwood Kartways - ECPv4.9.2//NONSGML v1.0//EN
CALSCALE:GREGORIAN
METHOD:PUBLISH
X-WR-CALNAME:Goodwood Kartways
X-ORIGINAL-URL:https://goodwoodkartways.com
X-WR-CALDESC:Events for Goodwood Kartways
BEGIN:VEVENT
DTSTART;VALUE=DATE:20250708
DTEND;VALUE=DATE:20250709
DTSTAMP:20260420T144732
CREATED:20250707T150505Z
LAST-MODIFIED:20250707T150505Z
UID:17470-1751932800-1752019199@goodwoodkartways.com
SUMMARY:Track Closed
DESCRIPTION:Track Closed \n
URL:https://goodwoodkartways.com/event/track-closed-36-2-2025-07-15-2-2/
END:VEVENT
END:VCALENDAR