BEGIN:VCALENDAR
VERSION:2.0
PRODID:-//Goodwood Kartways - ECPv4.9.2//NONSGML v1.0//EN
CALSCALE:GREGORIAN
METHOD:PUBLISH
X-WR-CALNAME:Goodwood Kartways
X-ORIGINAL-URL:https://goodwoodkartways.com
X-WR-CALDESC:Events for Goodwood Kartways
BEGIN:VEVENT
DTSTART;TZID=America/Toronto:20250709T153000
DTEND;TZID=America/Toronto:20250709T170000
DTSTAMP:20260420T015602
CREATED:20250626T081911Z
LAST-MODIFIED:20250626T081911Z
UID:17427-1752075000-1752080400@goodwoodkartways.com
SUMMARY:Private Event
DESCRIPTION:Private Event 3:30PM-5PM \n
URL:https://goodwoodkartways.com/event/private-event-1011-2-2/
CATEGORIES:6. PRIVATE GROUP EVENT
END:VEVENT
BEGIN:VEVENT
DTSTART;TZID=UTC+0:20250709T173000
DTEND;TZID=UTC+0:20250709T203000
DTSTAMP:20260420T015602
CREATED:20250218T180222Z
LAST-MODIFIED:20250707T143542Z
UID:17043-1752082200-1752093000@goodwoodkartways.com
SUMMARY:A/D CRKC - Race 4
DESCRIPTION:Schedule 4 – Wednesday \nRegistration: 5:00pm\nPractice: 5:30pm-6:45pm\nQualifying and Racing: 7:00pm-8:30pm \n  \n
URL:https://goodwoodkartways.com/event/crkc-race-1-54-2-3-2-2-2/
LOCATION:Goodwood Kartways\, 5200 Concession 2 Road\, Whitchurch-Stouffville\, Ontario\, L4A 7X4\, Canada
CATEGORIES:1. ARRIVE/DRIVE RACING
END:VEVENT
END:VCALENDAR