BEGIN:VCALENDAR
VERSION:2.0
PRODID:-//Goodwood Kartways - ECPv4.9.2//NONSGML v1.0//EN
CALSCALE:GREGORIAN
METHOD:PUBLISH
X-WR-CALNAME:Goodwood Kartways
X-ORIGINAL-URL:https://goodwoodkartways.com
X-WR-CALDESC:Events for Goodwood Kartways
BEGIN:VEVENT
DTSTART;TZID=UTC+0:20250726T090000
DTEND;TZID=UTC+0:20250726T140000
DTSTAMP:20260420T023557
CREATED:20250207T171741Z
LAST-MODIFIED:20250707T145006Z
UID:16986-1753520400-1753538400@goodwoodkartways.com
SUMMARY:Kid Kart Race 5
DESCRIPTION:Kid Kart Race 5 \nDedicated instructor led lapping session for Goodwood Kartways Kid Kart Members. Age ranging from 3-7 years. \nContact daniel@goodwoodkartways.com to enroll your son/daughter today. \nClick HERE for Kid Kart Race 5 Details \n  \n  \n
URL:https://goodwoodkartways.com/event/kid-kart-race-1-2-3-2-2-2-3/
CATEGORIES:5. KID KART PROGRAM
END:VEVENT
BEGIN:VEVENT
DTSTART;TZID=UTC+0:20250726T100000
DTEND;TZID=UTC+0:20250726T160000
DTSTAMP:20260420T023557
CREATED:20250207T170435Z
LAST-MODIFIED:20250721T192314Z
UID:16967-1753524000-1753545600@goodwoodkartways.com
SUMMARY:TRAK Race 9
DESCRIPTION:Click HERE For TRAK R9 Details \n
URL:https://goodwoodkartways.com/event/trak-race-1-8-2-3-2-2-2-2-2-2-2/
CATEGORIES:3. KART OWNER RACING
END:VEVENT
BEGIN:VEVENT
DTSTART;TZID=America/Toronto:20250726T160000
DTEND;TZID=America/Toronto:20250726T173000
DTSTAMP:20260420T023558
CREATED:20250704T151309Z
LAST-MODIFIED:20250704T151309Z
UID:17451-1753545600-1753551000@goodwoodkartways.com
SUMMARY:Private Event
DESCRIPTION:Private Event 4:00PM-5:30PM \n
URL:https://goodwoodkartways.com/event/private-event-1014-2-2/
CATEGORIES:6. PRIVATE GROUP EVENT
END:VEVENT
BEGIN:VEVENT
DTSTART;TZID=America/Toronto:20250726T173000
DTEND;TZID=America/Toronto:20250726T183000
DTSTAMP:20260420T023558
CREATED:20250718T135527Z
LAST-MODIFIED:20250718T135555Z
UID:17499-1753551000-1753554600@goodwoodkartways.com
SUMMARY:Private Event
DESCRIPTION:Private Event 5:30PM-6:30PM \n
URL:https://goodwoodkartways.com/event/17499/
CATEGORIES:6. PRIVATE GROUP EVENT
END:VEVENT
END:VCALENDAR