BEGIN:VCALENDAR
VERSION:2.0
PRODID:-//Goodwood Kartways - ECPv4.9.2//NONSGML v1.0//EN
CALSCALE:GREGORIAN
METHOD:PUBLISH
X-WR-CALNAME:Goodwood Kartways
X-ORIGINAL-URL:https://goodwoodkartways.com
X-WR-CALDESC:Events for Goodwood Kartways
BEGIN:VEVENT
DTSTART;TZID=America/Toronto:20250813T113000
DTEND;TZID=America/Toronto:20250813T150000
DTSTAMP:20260420T143358
CREATED:20250307T172650Z
LAST-MODIFIED:20250307T172656Z
UID:17141-1755084600-1755097200@goodwoodkartways.com
SUMMARY:Private Event
DESCRIPTION:Private Event 11:30AM-3PM \n
URL:https://goodwoodkartways.com/event/private-event-983-2/
CATEGORIES:6. PRIVATE GROUP EVENT
END:VEVENT
END:VCALENDAR