BEGIN:VCALENDAR
VERSION:2.0
PRODID:-//Goodwood Kartways - ECPv4.9.2//NONSGML v1.0//EN
CALSCALE:GREGORIAN
METHOD:PUBLISH
X-WR-CALNAME:Goodwood Kartways
X-ORIGINAL-URL:https://goodwoodkartways.com
X-WR-CALDESC:Events for Goodwood Kartways
BEGIN:VEVENT
DTSTART;TZID=America/Toronto:20250905T100000
DTEND;TZID=America/Toronto:20250905T113000
DTSTAMP:20260421T113144
CREATED:20250902T144720Z
LAST-MODIFIED:20250902T144720Z
UID:17598-1757066400-1757071800@goodwoodkartways.com
SUMMARY:Private Event
DESCRIPTION:Private Event 10AM-11:30AM \n
URL:https://goodwoodkartways.com/event/private-event-1034/
CATEGORIES:6. PRIVATE GROUP EVENT
END:VEVENT
BEGIN:VEVENT
DTSTART;TZID=America/Toronto:20250905T123000
DTEND;TZID=America/Toronto:20250905T160000
DTSTAMP:20260421T113144
CREATED:20250721T173921Z
LAST-MODIFIED:20250721T173921Z
UID:17507-1757075400-1757088000@goodwoodkartways.com
SUMMARY:Private Event
DESCRIPTION:Private Event 12:30PM-4PM \n
URL:https://goodwoodkartways.com/event/private-event-1020/
CATEGORIES:6. PRIVATE GROUP EVENT
END:VEVENT
BEGIN:VEVENT
DTSTART;TZID=UTC+0:20250905T173000
DTEND;TZID=UTC+0:20250905T203000
DTSTAMP:20260421T113144
CREATED:20250218T180718Z
LAST-MODIFIED:20250707T154159Z
UID:17057-1757093400-1757104200@goodwoodkartways.com
SUMMARY:A/D CRKC - Race 8
DESCRIPTION:Schedule 5 – Friday \nRegistration: 5:00pm\nPractice: 5:30pm-6:45pm\nQualifying and Racing: 7:00pm-8:30pm \n  \n
URL:https://goodwoodkartways.com/event/crkc-race-1-55-2-3-2-2-2-2-2-2-2/
LOCATION:Goodwood Kartways\, 5200 Concession 2 Road\, Whitchurch-Stouffville\, Ontario\, L4A 7X4\, Canada
CATEGORIES:1. ARRIVE/DRIVE RACING
END:VEVENT
END:VCALENDAR