BEGIN:VCALENDAR
VERSION:2.0
PRODID:-//Goodwood Kartways - ECPv4.9.2//NONSGML v1.0//EN
CALSCALE:GREGORIAN
METHOD:PUBLISH
X-WR-CALNAME:Goodwood Kartways
X-ORIGINAL-URL:https://goodwoodkartways.com
X-WR-CALDESC:Events for Goodwood Kartways
BEGIN:VEVENT
DTSTART;TZID=UTC+0:20251005T080000
DTEND;TZID=UTC+0:20251005T100000
DTSTAMP:20260421T083010
CREATED:20250307T174727Z
LAST-MODIFIED:20250707T154758Z
UID:17155-1759651200-1759658400@goodwoodkartways.com
SUMMARY:Kid Kart - Training
DESCRIPTION:Dedicated instructor led lapping session for Goodwood Kartways Kid Kart Members. Age ranging from 3-7 years. \nContact daniel@goodwoodkartways.com to enroll your son/daughter today. \n  \n  \n  \n
URL:https://goodwoodkartways.com/event/kid-kart-race-1-2-2-2-2-2-2-2-2-2-3-2-2-2-2-2-2-2-2-2-2-2/
CATEGORIES:5. KID KART PROGRAM
END:VEVENT
BEGIN:VEVENT
DTSTART;TZID=UTC+0:20251005T100000
DTEND;TZID=UTC+0:20251005T133000
DTSTAMP:20260421T083010
CREATED:20250218T181051Z
LAST-MODIFIED:20250707T154803Z
UID:17069-1759658400-1759671000@goodwoodkartways.com
SUMMARY:A/D CRKC - Race 10
DESCRIPTION:Schedule 6 – Sunday (AM) \nRegistration: 9:15am\nPractice: 10:00am-11:15am\nQualifying and Racing: 11:30am-1:30pm \n  \n
URL:https://goodwoodkartways.com/event/crkc-race-1-56-2-3-2-2-2-2-2-2-2-2-2/
LOCATION:Goodwood Kartways\, 5200 Concession 2 Road\, Whitchurch-Stouffville\, Ontario\, L4A 7X4\, Canada
CATEGORIES:1. ARRIVE/DRIVE RACING
END:VEVENT
BEGIN:VEVENT
DTSTART;TZID=America/Toronto:20251005T133000
DTEND;TZID=America/Toronto:20251005T150000
DTSTAMP:20260421T083010
CREATED:20250822T150544Z
LAST-MODIFIED:20250822T150544Z
UID:17570-1759671000-1759676400@goodwoodkartways.com
SUMMARY:Private Event
DESCRIPTION:Private Event 1:30PM-3PM \n
URL:https://goodwoodkartways.com/event/private-event-1033/
CATEGORIES:6. PRIVATE GROUP EVENT
END:VEVENT
BEGIN:VEVENT
DTSTART;TZID=America/Toronto:20251005T133000
DTEND;TZID=America/Toronto:20251005T150000
DTSTAMP:20260421T083010
CREATED:20251001T182811Z
LAST-MODIFIED:20251001T182811Z
UID:17653-1759671000-1759676400@goodwoodkartways.com
SUMMARY:Private Event
DESCRIPTION:Private Event 1:30PM-3PM \n
URL:https://goodwoodkartways.com/event/private-event-1045/
CATEGORIES:6. PRIVATE GROUP EVENT
END:VEVENT
BEGIN:VEVENT
DTSTART;TZID=UTC+0:20251005T160000
DTEND;TZID=UTC+0:20251005T190000
DTSTAMP:20260421T083010
CREATED:20250218T181346Z
LAST-MODIFIED:20250707T154807Z
UID:17079-1759680000-1759690800@goodwoodkartways.com
SUMMARY:A/D CRKC - Race 10
DESCRIPTION:Schedule 7 – Sunday (PM) \nRegistration: 3:15pm\nPractice: 4:00pm-5:15pm\nQualifying and Racing: 5:30pm-7:00pm \n  \n
URL:https://goodwoodkartways.com/event/crkc-race-1-57-2-3-2-2-2-2-2-2-2-2-2/
LOCATION:Goodwood Kartways\, 5200 Concession 2 Road\, Whitchurch-Stouffville\, Ontario\, L4A 7X4\, Canada
CATEGORIES:1. ARRIVE/DRIVE RACING
END:VEVENT
END:VCALENDAR