BEGIN:VCALENDAR
VERSION:2.0
PRODID:-//Goodwood Kartways - ECPv4.9.2//NONSGML v1.0//EN
CALSCALE:GREGORIAN
METHOD:PUBLISH
X-WR-CALNAME:Goodwood Kartways
X-ORIGINAL-URL:https://goodwoodkartways.com
X-WR-CALDESC:Events for Goodwood Kartways
BEGIN:VEVENT
DTSTART;TZID=America/Toronto:20251024T133000
DTEND;TZID=America/Toronto:20251024T150000
DTSTAMP:20260421T084256
CREATED:20251018T200643Z
LAST-MODIFIED:20251018T200727Z
UID:17712-1761312600-1761318000@goodwoodkartways.com
SUMMARY:Private Event
DESCRIPTION:Private Event 1:30-3PM \n
URL:https://goodwoodkartways.com/event/private-event-1054/
CATEGORIES:6. PRIVATE GROUP EVENT
END:VEVENT
BEGIN:VEVENT
DTSTART;TZID=America/Toronto:20251024T153000
DTEND;TZID=America/Toronto:20251024T180000
DTSTAMP:20260421T084256
CREATED:20251020T124923Z
LAST-MODIFIED:20251020T124923Z
UID:17717-1761319800-1761328800@goodwoodkartways.com
SUMMARY:Private-Event
DESCRIPTION:Private – Event 3:30pm – 6pm \n
URL:https://goodwoodkartways.com/event/private-event-1055/
CATEGORIES:6. PRIVATE GROUP EVENT
END:VEVENT
END:VCALENDAR