BEGIN:VCALENDAR
VERSION:2.0
PRODID:-//Goodwood Kartways - ECPv4.9.2//NONSGML v1.0//EN
CALSCALE:GREGORIAN
METHOD:PUBLISH
X-WR-CALNAME:Goodwood Kartways
X-ORIGINAL-URL:https://goodwoodkartways.com
X-WR-CALDESC:Events for Goodwood Kartways
BEGIN:VEVENT
DTSTART;TZID=UTC+0:20261025T080000
DTEND;TZID=UTC+0:20261025T100000
DTSTAMP:20260421T082950
CREATED:20260225T184209Z
LAST-MODIFIED:20260225T184209Z
UID:17914-1792915200-1792922400@goodwoodkartways.com
SUMMARY:Kid Kart - Training
DESCRIPTION:Dedicated instructor led lapping session for Goodwood Kartways Kid Kart Members. Age ranging from 3-7 years. \nContact daniel@goodwoodkartways.com to enroll your son/daughter today. \n  \n  \n  \n
URL:https://goodwoodkartways.com/event/kid-kart-race-1-2-2-2-2-2-2-2-2-2-3-3-2-2-2-2-2-2-2-2-2-2-2-2/
CATEGORIES:7. SPECIAL EVENTS
END:VEVENT
BEGIN:VEVENT
DTSTART;TZID=America/Toronto:20261025T163000
DTEND;TZID=America/Toronto:20261025T180000
DTSTAMP:20260421T082950
CREATED:20260323T175100Z
LAST-MODIFIED:20260323T175100Z
UID:17942-1792945800-1792951200@goodwoodkartways.com
SUMMARY:Private Event
DESCRIPTION:Private Event 4:30PM-6PM \n
URL:https://goodwoodkartways.com/event/private-event-1058-2-2-2-3-2-2-2/
CATEGORIES:6. PRIVATE GROUP EVENT
END:VEVENT
END:VCALENDAR