BEGIN:VCALENDAR
VERSION:2.0
PRODID:-//Goodwood Kartways - ECPv4.9.2//NONSGML v1.0//EN
CALSCALE:GREGORIAN
METHOD:PUBLISH
X-WR-CALNAME:Goodwood Kartways
X-ORIGINAL-URL:https://goodwoodkartways.com
X-WR-CALDESC:Events for Goodwood Kartways
BEGIN:VEVENT
DTSTART;TZID=UTC+0:20241016T130000
DTEND;TZID=UTC+0:20241016T150000
DTSTAMP:20260421T101731
CREATED:20240828T165523Z
LAST-MODIFIED:20240828T165523Z
UID:16722-1729083600-1729090800@goodwoodkartways.com
SUMMARY:CRKC '2-STROKE LAPPING' - Session 3
DESCRIPTION:CRKC ‘2-Stroke Lapping’ Session 3 : 1pm-3pm \nBy reservation only; please call 905.640.5278 \n
URL:https://goodwoodkartways.com/event/crkc-2-stroke-lapping-session-1-2-2-2-2/
LOCATION:Goodwood Kartways\, 5200 Concession 2 Road\, Whitchurch-Stouffville\, Ontario\, L4A 7X4\, Canada
CATEGORIES:1. ARRIVE/DRIVE RACING
END:VEVENT
BEGIN:VEVENT
DTSTART;TZID=UTC+0:20241016T160000
DTEND;TZID=UTC+0:20241016T180000
DTSTAMP:20260421T101731
CREATED:20240828T165554Z
LAST-MODIFIED:20240828T165554Z
UID:16723-1729094400-1729101600@goodwoodkartways.com
SUMMARY:CRKC '2-STROKE LAPPING' - Session 4
DESCRIPTION:CRKC ‘2-Stroke Lapping’ Session 4 : 4pm-6pm \nBy reservation only; please call 905.640.5278 \n
URL:https://goodwoodkartways.com/event/crkc-2-stroke-lapping-session-1-2-2-2-2-2/
LOCATION:Goodwood Kartways\, 5200 Concession 2 Road\, Whitchurch-Stouffville\, Ontario\, L4A 7X4\, Canada
CATEGORIES:1. ARRIVE/DRIVE RACING
END:VEVENT
END:VCALENDAR