BEGIN:VCALENDAR
VERSION:2.0
PRODID:-//Goodwood Kartways - ECPv4.9.2//NONSGML v1.0//EN
CALSCALE:GREGORIAN
METHOD:PUBLISH
X-WR-CALNAME:Goodwood Kartways
X-ORIGINAL-URL:https://goodwoodkartways.com
X-WR-CALDESC:Events for Goodwood Kartways
BEGIN:VEVENT
DTSTART;TZID=UTC+0:20250420T110000
DTEND;TZID=UTC+0:20250420T160000
DTSTAMP:20260420T231316
CREATED:20250420T141052Z
LAST-MODIFIED:20250420T141052Z
UID:17225-1745146800-1745164800@goodwoodkartways.com
SUMMARY:Arrive & Drive Lapping
DESCRIPTION:Arrive & Drive Lapping: \nFor pre-registered drivers only. Please call 905.640.5278 to reserve your spot! \n
URL:https://goodwoodkartways.com/event/arrive-drive-lapping-28-2-2-2-2-2-2-2-2/
CATEGORIES:1. ARRIVE/DRIVE RACING
END:VEVENT
BEGIN:VEVENT
DTSTART;TZID=UTC+0:20250420T120000
DTEND;TZID=UTC+0:20250420T160000
DTSTAMP:20260420T231316
CREATED:20250401T171234Z
LAST-MODIFIED:20250401T171234Z
UID:17175-1745150400-1745164800@goodwoodkartways.com
SUMMARY:CRKC - Open House 8
DESCRIPTION:Information session designed to complete the registration process for ALL current members. Members must attend one (1) of the eight (8) sessions\, simply stopping by anytime between the hours listed below. (12pm – 4pm) \n
URL:https://goodwoodkartways.com/event/crkc-open-house-1-10-2-2-2-2-2-2-2-3-2-2/
LOCATION:Goodwood Kartways\, 5200 Concession 2 Road\, Whitchurch-Stouffville\, Ontario\, L4A 7X4\, Canada
CATEGORIES:1. ARRIVE/DRIVE RACING
END:VEVENT
END:VCALENDAR