BEGIN:VCALENDAR
VERSION:2.0
PRODID:-//Goodwood Kartways - ECPv4.9.2//NONSGML v1.0//EN
CALSCALE:GREGORIAN
METHOD:PUBLISH
X-WR-CALNAME:Goodwood Kartways
X-ORIGINAL-URL:https://goodwoodkartways.com
X-WR-CALDESC:Events for Goodwood Kartways
BEGIN:VEVENT
DTSTART;TZID=UTC+0:20250519T100000
DTEND;TZID=UTC+0:20250519T160000
DTSTAMP:20260420T180712
CREATED:20250518T111115Z
LAST-MODIFIED:20250518T111157Z
UID:17344-1747648800-1747670400@goodwoodkartways.com
SUMMARY:Arrive & Drive Lapping
DESCRIPTION:Arrive & Drive Lapping: \nFor pre-registered drivers only. Please call 905.640.5278 to reserve your spot! \n
URL:https://goodwoodkartways.com/event/arrive-drive-lapping-28-2-2-2-2-2-2-2-2-3-2-2-2/
CATEGORIES:1. ARRIVE/DRIVE RACING
END:VEVENT
BEGIN:VEVENT
DTSTART;TZID=UTC+0:20250519T173000
DTEND;TZID=UTC+0:20250519T203000
DTSTAMP:20260420T180712
CREATED:20250218T175045Z
LAST-MODIFIED:20250218T175045Z
UID:17010-1747675800-1747686600@goodwoodkartways.com
SUMMARY:CRKC - Race 1
DESCRIPTION:Schedule 1 – Monday \nRegistration: 5:00pm\nPractice: 5:30pm-6:45pm\nQualifying and Racing: 7:00pm-8:30pm \n  \n
URL:https://goodwoodkartways.com/event/crkc-race-1-51-2-3/
LOCATION:Goodwood Kartways\, 5200 Concession 2 Road\, Whitchurch-Stouffville\, Ontario\, L4A 7X4\, Canada
CATEGORIES:1. ARRIVE/DRIVE RACING
END:VEVENT
END:VCALENDAR