BEGIN:VCALENDAR
VERSION:2.0
PRODID:-//Goodwood Kartways - ECPv4.9.2//NONSGML v1.0//EN
CALSCALE:GREGORIAN
METHOD:PUBLISH
X-WR-CALNAME:Goodwood Kartways
X-ORIGINAL-URL:https://goodwoodkartways.com
X-WR-CALDESC:Events for Goodwood Kartways
BEGIN:VEVENT
DTSTART;TZID=UTC+0:20250605T173000
DTEND;TZID=UTC+0:20250605T203000
DTSTAMP:20260420T131618
CREATED:20250218T175505Z
LAST-MODIFIED:20250218T175505Z
UID:17021-1749144600-1749155400@goodwoodkartways.com
SUMMARY:CRKC - Race 2
DESCRIPTION:Schedule 2 – Thursday \nRegistration: 5:00pm\nPractice: 5:30pm-6:45pm\nQualifying and Racing: 7:00pm-8:30pm \n  \n
URL:https://goodwoodkartways.com/event/crkc-race-1-52-2-3-2/
LOCATION:Goodwood Kartways\, 5200 Concession 2 Road\, Whitchurch-Stouffville\, Ontario\, L4A 7X4\, Canada
CATEGORIES:1. ARRIVE/DRIVE RACING
END:VEVENT
END:VCALENDAR