BEGIN:VCALENDAR
VERSION:2.0
PRODID:-//Goodwood Kartways - ECPv4.9.2//NONSGML v1.0//EN
CALSCALE:GREGORIAN
METHOD:PUBLISH
X-WR-CALNAME:Goodwood Kartways
X-ORIGINAL-URL:https://goodwoodkartways.com
X-WR-CALDESC:Events for Goodwood Kartways
BEGIN:VEVENT
DTSTART;TZID=UTC+0:20230915T100000
DTEND;TZID=UTC+0:20230915T170000
DTSTAMP:20260426T005724
CREATED:20230403T191059Z
LAST-MODIFIED:20230403T191059Z
UID:14143-1694772000-1694797200@goodwoodkartways.com
SUMMARY:Private Lapping
DESCRIPTION:Private Lapping for all private kart owners. \n  \n
URL:https://goodwoodkartways.com/event/private-lapping-61/
CATEGORIES:3. KART OWNER RACING
END:VEVENT
END:VCALENDAR