BEGIN:VCALENDAR
VERSION:2.0
PRODID:-//Goodwood Kartways - ECPv4.9.2//NONSGML v1.0//EN
CALSCALE:GREGORIAN
METHOD:PUBLISH
X-WR-CALNAME:Goodwood Kartways
X-ORIGINAL-URL:https://goodwoodkartways.com
X-WR-CALDESC:Events for Goodwood Kartways
BEGIN:VEVENT
DTSTART;TZID=UTC+0:20240407T100000
DTEND;TZID=UTC+0:20240407T160000
DTSTAMP:20260425T031010
CREATED:20240211T170544Z
LAST-MODIFIED:20240401T164117Z
UID:15981-1712484000-1712505600@goodwoodkartways.com
SUMMARY:TRAK 'Spring Training'
DESCRIPTION:25 Bonus Points // FREE with R1 Entry \nClick HERE for Event Details \n
URL:https://goodwoodkartways.com/event/trak-spring-training-9-2/
CATEGORIES:3. KART OWNER RACING
END:VEVENT
END:VCALENDAR