BEGIN:VCALENDAR
VERSION:2.0
PRODID:-//Goodwood Kartways - ECPv4.9.2//NONSGML v1.0//EN
CALSCALE:GREGORIAN
METHOD:PUBLISH
X-WR-CALNAME:Goodwood Kartways
X-ORIGINAL-URL:https://goodwoodkartways.com
X-WR-CALDESC:Events for Goodwood Kartways
BEGIN:VEVENT
DTSTART;TZID=UTC+0:20240504T100000
DTEND;TZID=UTC+0:20240504T160000
DTSTAMP:20260425T014441
CREATED:20240211T170725Z
LAST-MODIFIED:20240430T173943Z
UID:15984-1714816800-1714838400@goodwoodkartways.com
SUMMARY:TRAK Race 3
DESCRIPTION:Click HERE for TRAK Race 3 Details \n
URL:https://goodwoodkartways.com/event/trak-race-1-8-2-2-2/
CATEGORIES:3. KART OWNER RACING
END:VEVENT
END:VCALENDAR