BEGIN:VCALENDAR
VERSION:2.0
PRODID:-//Goodwood Kartways - ECPv4.9.2//NONSGML v1.0//EN
CALSCALE:GREGORIAN
METHOD:PUBLISH
X-WR-CALNAME:Goodwood Kartways
X-ORIGINAL-URL:https://goodwoodkartways.com
X-WR-CALDESC:Events for Goodwood Kartways
BEGIN:VEVENT
DTSTART;TZID=UTC+0:20240720T100000
DTEND;TZID=UTC+0:20240720T160000
DTSTAMP:20260424T184850
CREATED:20240211T170946Z
LAST-MODIFIED:20240211T170946Z
UID:15989-1721469600-1721491200@goodwoodkartways.com
SUMMARY:TRAK Race 9
DESCRIPTION:Click HERE for TRAK Race 9 Details \n
URL:https://goodwoodkartways.com/event/trak-race-1-8-2-2-2-2-2-2-2-2/
CATEGORIES:3. KART OWNER RACING
END:VEVENT
END:VCALENDAR