BEGIN:VCALENDAR
VERSION:2.0
PRODID:-//Goodwood Kartways - ECPv4.9.2//NONSGML v1.0//EN
CALSCALE:GREGORIAN
METHOD:PUBLISH
X-WR-CALNAME:Goodwood Kartways
X-ORIGINAL-URL:https://goodwoodkartways.com
X-WR-CALDESC:Events for Goodwood Kartways
BEGIN:VEVENT
DTSTART;TZID=UTC+0:20250607T100000
DTEND;TZID=UTC+0:20250607T160000
DTSTAMP:20260422T021520
CREATED:20250207T170341Z
LAST-MODIFIED:20250605T141836Z
UID:16964-1749290400-1749312000@goodwoodkartways.com
SUMMARY:TRAK Race 6
DESCRIPTION:TRAK RACE SIX – SATURDAY JUNE 7th 2025 – LONG TRACK ‘REVERSE’ CONFIGURATION – QUALIFYING FORMAT \nAfter a well deserved weekend off\, we are back at it for TRAK Race 6. For the first time this year\, we will be running the ‘Long Track Reverse Configuration’. If you haven’t run this layout before it is highly recommended that you come out Thursday or Friday for some extra practice if at all possible. Thanks again to you ALL for your participation during the last few events. Stefano – we are all wishing for a speedy recovery. We can’t wait to have you back at the track. \nPRACTICE AVAILABILITY \n\nThursday June 5th. 10am – 4:30pm.\nFriday June 6th. 10am – 1pm and 4pm – 7pm.\n\nTRAK RACE 6– JUNE 7th 2025 – SATURDAY SCHEDULE \n\n8:00am – Gates Open\n8:15am – Registration Open’s\n9:15am – Registration Close’s\n9:15am – Mandatory Driver’s Meeting – There will be a ‘Briggs Senior’ mandatory meeting following.\n9:45am – Practice Session\nT.B.D – Qualifying (6 Minute Session)\nLunch Break\nT.B.D – Pre-Final (8 Lap Race)\nT.B.D – Final (10 Lap Race)\n3:30pm – Podium Presentation\n\nTRAK RACE 6 – RACE ORDER \n\nKid Kart\nBriggs Masters\nVLR Junior\nBriggs Cadet* (May be split into two groups based on entry count)\nBriggs Senior\nBriggs Junior Lite\nVLR Masters\nVLR Senior\nBriggs Junior\nMini Rok\n\nTRAK RACE 6 – NOTES: \n\nThis race will utilize the Long Track ‘REVERSE’ configuration.(Clockwise).\nRegistration will be open on-site on Friday for drivers practicing. ParkIng arrangements will also be completed on these days to help ease the burden on Saturday morning.\nRegistration will re-open on-site Saturday morning. \nPayment should be made by cash or cheque as outlined in the TRAK supplemental regulations.\nThat’s Sapore Snack Bar will be open! Special: Nonno’s Cannelloni’. Email thatssapore@gmail.com\nFor more information on our Club Racing program please visit goodwoodkartways.com. \n\n
URL:https://goodwoodkartways.com/event/trak-race-1-8-2-3-2-2-2-2/
CATEGORIES:3. KART OWNER RACING
END:VEVENT
END:VCALENDAR