BEGIN:VCALENDAR
VERSION:2.0
PRODID:-//Goodwood Kartways - ECPv4.9.2//NONSGML v1.0//EN
CALSCALE:GREGORIAN
METHOD:PUBLISH
X-WR-CALNAME:Goodwood Kartways
X-ORIGINAL-URL:https://goodwoodkartways.com
X-WR-CALDESC:Events for Goodwood Kartways
BEGIN:VEVENT
DTSTART;TZID=America/Toronto:20250918T100000
DTEND;TZID=America/Toronto:20250918T180000
DTSTAMP:20260426T024602
CREATED:20250707T162432Z
LAST-MODIFIED:20250707T162432Z
UID:17478-1758189600-1758218400@goodwoodkartways.com
SUMMARY:Kart Owner Lapping
DESCRIPTION:Kart Owner Lapping 10am-6pm \n
URL:https://goodwoodkartways.com/event/private-lapping-67-2-2-2-2-2-2-3-3-2-2-3/
CATEGORIES:4. KART OWNER LAPPING
END:VEVENT
END:VCALENDAR