BEGIN:VCALENDAR
VERSION:2.0
PRODID:-//Goodwood Kartways - ECPv4.9.2//NONSGML v1.0//EN
CALSCALE:GREGORIAN
METHOD:PUBLISH
X-WR-CALNAME:Goodwood Kartways
X-ORIGINAL-URL:https://goodwoodkartways.com
X-WR-CALDESC:Events for Goodwood Kartways
BEGIN:VEVENT
DTSTART;TZID=America/Toronto:20251023T130000
DTEND;TZID=America/Toronto:20251023T180000
DTSTAMP:20260425T182430
CREATED:20251022T174256Z
LAST-MODIFIED:20251022T174256Z
UID:17729-1761224400-1761242400@goodwoodkartways.com
SUMMARY:Kart Owner Lapping
DESCRIPTION:Kart Owner Lapping 1pm-6pm \n
URL:https://goodwoodkartways.com/event/private-lapping-67-2-2-2-2-2-2-3-3-2-2-3-2-2-2-2-2-2/
CATEGORIES:4. KART OWNER LAPPING
END:VEVENT
END:VCALENDAR