BEGIN:VCALENDAR
VERSION:2.0
PRODID:-//Goodwood Kartways - ECPv4.9.2//NONSGML v1.0//EN
CALSCALE:GREGORIAN
METHOD:PUBLISH
X-WR-CALNAME:Goodwood Kartways
X-ORIGINAL-URL:https://goodwoodkartways.com
X-WR-CALDESC:Events for Goodwood Kartways
BEGIN:VEVENT
DTSTART;TZID=UTC+0:20240629T160000
DTEND;TZID=UTC+0:20240629T190000
DTSTAMP:20260425T235546
CREATED:20240429T141535Z
LAST-MODIFIED:20240429T141535Z
UID:16288-1719676800-1719687600@goodwoodkartways.com
SUMMARY:Public Karting
DESCRIPTION:Open for Public Karting 4pm-7pm by Reservation ONLY. Please call 905.640.5278 to book your time! \n
URL:https://goodwoodkartways.com/event/public-karting-294-2-2-2-2/
CATEGORIES:2. ARRIVE/DRIVE LAPPING
END:VEVENT
END:VCALENDAR