BEGIN:VCALENDAR
VERSION:2.0
PRODID:-//Goodwood Kartways - ECPv4.9.2//NONSGML v1.0//EN
CALSCALE:GREGORIAN
METHOD:PUBLISH
X-WR-CALNAME:Goodwood Kartways
X-ORIGINAL-URL:https://goodwoodkartways.com
X-WR-CALDESC:Events for Goodwood Kartways
BEGIN:VEVENT
DTSTART;TZID=UTC+0:20241012T143000
DTEND;TZID=UTC+0:20241012T190000
DTSTAMP:20260421T081230
CREATED:20241009T141448Z
LAST-MODIFIED:20241009T144401Z
UID:16818-1728743400-1728759600@goodwoodkartways.com
SUMMARY:Public Karting
DESCRIPTION:Open for Public Karting 2:30pm-7pm by Reservation ONLY. Please call 905.640.5278 to book your time! \n
URL:https://goodwoodkartways.com/event/public-karting-294-2-3-4-3-2-2-2-3-2-2-4-2-3-3/
CATEGORIES:2. ARRIVE/DRIVE LAPPING
END:VEVENT
END:VCALENDAR