BEGIN:VCALENDAR
VERSION:2.0
PRODID:-//Goodwood Kartways - ECPv4.9.2//NONSGML v1.0//EN
CALSCALE:GREGORIAN
METHOD:PUBLISH
X-WR-CALNAME:Goodwood Kartways
X-ORIGINAL-URL:https://goodwoodkartways.com
X-WR-CALDESC:Events for Goodwood Kartways
BEGIN:VEVENT
DTSTART;TZID=UTC+0:20241025T100000
DTEND;TZID=UTC+0:20241025T180000
DTSTAMP:20260421T081250
CREATED:20241016T150024Z
LAST-MODIFIED:20241016T150024Z
UID:16879-1729850400-1729879200@goodwoodkartways.com
SUMMARY:Public Karting
DESCRIPTION:Open for Public Karting 10am-6pm by Reservation ONLY. Please call 905.640.5278 to book your time! \n
URL:https://goodwoodkartways.com/event/public-karting-294-2-3-4-3-2-2-2-3-2-2-4-2-3-2-3/
CATEGORIES:2. ARRIVE/DRIVE LAPPING
END:VEVENT
END:VCALENDAR